BEGIN:VCALENDAR
VERSION:2.0
PRODID:-//Canadian Hereford Association | Better Your Beef - ECPv6.11.2//NONSGML v1.0//EN
CALSCALE:GREGORIAN
METHOD:PUBLISH
X-ORIGINAL-URL:https://coyotemedia.ca/hereford
X-WR-CALDESC:Events for Canadian Hereford Association | Better Your Beef
REFRESH-INTERVAL;VALUE=DURATION:PT1H
X-Robots-Tag:noindex
X-PUBLISHED-TTL:PT1H
BEGIN:VTIMEZONE
TZID:UTC
BEGIN:STANDARD
TZOFFSETFROM:+0000
TZOFFSETTO:+0000
TZNAME:UTC
DTSTART:20240101T000000
END:STANDARD
END:VTIMEZONE
BEGIN:VEVENT
DTSTART;VALUE=DATE:20250307
DTEND;VALUE=DATE:20250309
DTSTAMP:20260422T044402
CREATED:20241216T081437Z
LAST-MODIFIED:20241216T081437Z
UID:10000019-1741305600-1741478399@coyotemedia.ca
SUMMARY:Richardson Ranch 40th Annual Bull Sale
DESCRIPTION:Selling Tlell Polled Herefords yearling and two year old bulls. \nContact Don at 250-566-5114 or don@richardsonranch.ca for more info.
URL:https://coyotemedia.ca/hereford/event/richardson-ranch-40th-annual-bull-sale/
LOCATION:DLMS FarmGate
CATEGORIES:Sale
END:VEVENT
BEGIN:VEVENT
DTSTART;TZID=UTC:20250223T080000
DTEND;TZID=UTC:20250223T170000
DTSTAMP:20260422T044402
CREATED:20241216T081022Z
LAST-MODIFIED:20241216T081022Z
UID:10000017-1740297600-1740330000@coyotemedia.ca
SUMMARY:Little Poplar Grove Herefords Annual Online Bull Sale
DESCRIPTION:
URL:https://coyotemedia.ca/hereford/event/little-poplar-grove-herefords-annual-online-bull-sale/
LOCATION:DLMS FarmGate
CATEGORIES:Sale
END:VEVENT
BEGIN:VEVENT
DTSTART;VALUE=DATE:20250213
DTEND;VALUE=DATE:20250214
DTSTAMP:20260422T044402
CREATED:20241216T072031Z
LAST-MODIFIED:20241216T072717Z
UID:10000015-1739404800-1739491199@coyotemedia.ca
SUMMARY:JoNomn Hereford Ranch Annual Bull Sale
DESCRIPTION:
URL:https://coyotemedia.ca/hereford/event/jonomn-hereford-ranch-annual-bull-sale/
LOCATION:DLMS FarmGate
CATEGORIES:Sale
END:VEVENT
BEGIN:VEVENT
DTSTART;VALUE=DATE:20241214
DTEND;VALUE=DATE:20241215
DTSTAMP:20260422T044402
CREATED:20241211T072907Z
LAST-MODIFIED:20241211T072907Z
UID:10000004-1734134400-1734220799@coyotemedia.ca
SUMMARY:Coulee Crest Online Bred Heifer Sale
DESCRIPTION:
URL:https://coyotemedia.ca/hereford/event/coulee-crest-online-bred-heifer-sale/
LOCATION:DLMS FarmGate
CATEGORIES:Sale
END:VEVENT
END:VCALENDAR