BEGIN:VCALENDAR
VERSION:2.0
PRODID:-//Canadian Hereford Association | Better Your Beef - ECPv6.11.2//NONSGML v1.0//EN
CALSCALE:GREGORIAN
METHOD:PUBLISH
X-WR-CALNAME:Canadian Hereford Association | Better Your Beef
X-ORIGINAL-URL:https://coyotemedia.ca/hereford
X-WR-CALDESC:Events for Canadian Hereford Association | Better Your Beef
REFRESH-INTERVAL;VALUE=DURATION:PT1H
X-Robots-Tag:noindex
X-PUBLISHED-TTL:PT1H
BEGIN:VTIMEZONE
TZID:UTC
BEGIN:STANDARD
TZOFFSETFROM:+0000
TZOFFSETTO:+0000
TZNAME:UTC
DTSTART:20250101T000000
END:STANDARD
END:VTIMEZONE
BEGIN:VEVENT
DTSTART;VALUE=DATE:20250417
DTEND;VALUE=DATE:20250418
DTSTAMP:20260422T014223
CREATED:20250417T165957Z
LAST-MODIFIED:20250417T170441Z
UID:10000021-1744848000-1744934399@coyotemedia.ca
SUMMARY:Williams Lake Bull Sale
DESCRIPTION:
URL:https://coyotemedia.ca/hereford/event/williams-lake-bull-sale/
LOCATION:BC Livestock Producers Co-Op\, Williams Lake\, British Columbia\, Canada
CATEGORIES:Sale
END:VEVENT
END:VCALENDAR