BEGIN:VCALENDAR
VERSION:2.0
PRODID:-//Canadian Hereford Association | Better Your Beef - ECPv6.11.2//NONSGML v1.0//EN
CALSCALE:GREGORIAN
METHOD:PUBLISH
X-ORIGINAL-URL:https://coyotemedia.ca/hereford
X-WR-CALDESC:Events for Canadian Hereford Association | Better Your Beef
REFRESH-INTERVAL;VALUE=DURATION:PT1H
X-Robots-Tag:noindex
X-PUBLISHED-TTL:PT1H
BEGIN:VTIMEZONE
TZID:UTC
BEGIN:STANDARD
TZOFFSETFROM:+0000
TZOFFSETTO:+0000
TZNAME:UTC
DTSTART:20250101T000000
END:STANDARD
END:VTIMEZONE
BEGIN:VEVENT
DTSTART;VALUE=DATE:20250823
DTEND;VALUE=DATE:20250824
DTSTAMP:20260421T140504
CREATED:20250428T145707Z
LAST-MODIFIED:20250428T145707Z
UID:10000028-1755907200-1755993599@coyotemedia.ca
SUMMARY:Barrie Fair
DESCRIPTION:
URL:https://coyotemedia.ca/hereford/event/barrie-fair/
LOCATION:Barrie\, Ontario\, Canada
CATEGORIES:Show
END:VEVENT
END:VCALENDAR