BEGIN:VCALENDAR
VERSION:2.0
PRODID:-//Canadian Hereford Association | Better Your Beef - ECPv6.11.2//NONSGML v1.0//EN
CALSCALE:GREGORIAN
METHOD:PUBLISH
X-WR-CALNAME:Canadian Hereford Association | Better Your Beef
X-ORIGINAL-URL:https://coyotemedia.ca/hereford
X-WR-CALDESC:Events for Canadian Hereford Association | Better Your Beef
REFRESH-INTERVAL;VALUE=DURATION:PT1H
X-Robots-Tag:noindex
X-PUBLISHED-TTL:PT1H
BEGIN:VTIMEZONE
TZID:UTC
BEGIN:STANDARD
TZOFFSETFROM:+0000
TZOFFSETTO:+0000
TZNAME:UTC
DTSTART:20240101T000000
END:STANDARD
END:VTIMEZONE
BEGIN:VEVENT
DTSTART;VALUE=DATE:20250417
DTEND;VALUE=DATE:20250418
DTSTAMP:20260422T032717
CREATED:20250417T165957Z
LAST-MODIFIED:20250417T170441Z
UID:10000021-1744848000-1744934399@coyotemedia.ca
SUMMARY:Williams Lake Bull Sale
DESCRIPTION:
URL:https://coyotemedia.ca/hereford/event/williams-lake-bull-sale/
LOCATION:BC Livestock Producers Co-Op\, Williams Lake\, British Columbia\, Canada
CATEGORIES:Sale
END:VEVENT
BEGIN:VEVENT
DTSTART;TZID=UTC:20250327T080000
DTEND;TZID=UTC:20250327T170000
DTSTAMP:20260422T032717
CREATED:20241216T081702Z
LAST-MODIFIED:20241216T081702Z
UID:10000020-1743062400-1743094800@coyotemedia.ca
SUMMARY:Remitall West Bull Sale
DESCRIPTION:
URL:https://coyotemedia.ca/hereford/event/remitall-west-bull-sale/
LOCATION:Remitall West\, Olds\, Alberta\, T4H 1T8\, Canada
CATEGORIES:Sale
END:VEVENT
BEGIN:VEVENT
DTSTART;VALUE=DATE:20250307
DTEND;VALUE=DATE:20250309
DTSTAMP:20260422T032717
CREATED:20241216T081437Z
LAST-MODIFIED:20241216T081437Z
UID:10000019-1741305600-1741478399@coyotemedia.ca
SUMMARY:Richardson Ranch 40th Annual Bull Sale
DESCRIPTION:Selling Tlell Polled Herefords yearling and two year old bulls. \nContact Don at 250-566-5114 or don@richardsonranch.ca for more info.
URL:https://coyotemedia.ca/hereford/event/richardson-ranch-40th-annual-bull-sale/
LOCATION:DLMS FarmGate
CATEGORIES:Sale
END:VEVENT
BEGIN:VEVENT
DTSTART;VALUE=DATE:20250306
DTEND;VALUE=DATE:20250307
DTSTAMP:20260422T032717
CREATED:20241216T081254Z
LAST-MODIFIED:20241216T081254Z
UID:10000018-1741219200-1741305599@coyotemedia.ca
SUMMARY:Calgary Bull Sale
DESCRIPTION:
URL:https://coyotemedia.ca/hereford/event/calgary-bull-sale/
LOCATION:Centry Downs Racetrack and Casino\, Rocky View County\, Alberta\, T4A 0V5\, Canada
CATEGORIES:Sale
END:VEVENT
BEGIN:VEVENT
DTSTART;TZID=UTC:20250223T080000
DTEND;TZID=UTC:20250223T170000
DTSTAMP:20260422T032717
CREATED:20241216T081022Z
LAST-MODIFIED:20241216T081022Z
UID:10000017-1740297600-1740330000@coyotemedia.ca
SUMMARY:Little Poplar Grove Herefords Annual Online Bull Sale
DESCRIPTION:
URL:https://coyotemedia.ca/hereford/event/little-poplar-grove-herefords-annual-online-bull-sale/
LOCATION:DLMS FarmGate
CATEGORIES:Sale
END:VEVENT
BEGIN:VEVENT
DTSTART;VALUE=DATE:20250220
DTEND;VALUE=DATE:20250221
DTSTAMP:20260422T032717
CREATED:20241216T075750Z
LAST-MODIFIED:20241216T075750Z
UID:10000016-1740009600-1740095999@coyotemedia.ca
SUMMARY:YV Inaugural Bull Sale
DESCRIPTION:
URL:https://coyotemedia.ca/hereford/event/yv-inaugural-bull-sale/
LOCATION:YV Ranch\, Airdrie\, Alberta\, Canada
CATEGORIES:Sale
END:VEVENT
BEGIN:VEVENT
DTSTART;VALUE=DATE:20250213
DTEND;VALUE=DATE:20250214
DTSTAMP:20260422T032717
CREATED:20241216T072031Z
LAST-MODIFIED:20241216T072717Z
UID:10000015-1739404800-1739491199@coyotemedia.ca
SUMMARY:JoNomn Hereford Ranch Annual Bull Sale
DESCRIPTION:
URL:https://coyotemedia.ca/hereford/event/jonomn-hereford-ranch-annual-bull-sale/
LOCATION:DLMS FarmGate
CATEGORIES:Sale
END:VEVENT
BEGIN:VEVENT
DTSTART;VALUE=DATE:20250211
DTEND;VALUE=DATE:20250212
DTSTAMP:20260422T032717
CREATED:20241216T071334Z
LAST-MODIFIED:20241216T071739Z
UID:10000014-1739232000-1739318399@coyotemedia.ca
SUMMARY:Holloway Farms Annual Rancher’s Bull Sale
DESCRIPTION:
URL:https://coyotemedia.ca/hereford/event/holloway-farms-annual-ranchers-bull-sale/
LOCATION:Holloway Farms\, Castor\, T0C 0X0\, Canada
CATEGORIES:Sale
END:VEVENT
BEGIN:VEVENT
DTSTART;VALUE=DATE:20250209
DTEND;VALUE=DATE:20250210
DTSTAMP:20260422T032717
CREATED:20241216T070902Z
LAST-MODIFIED:20241216T070902Z
UID:10000013-1739059200-1739145599@coyotemedia.ca
SUMMARY:Fenton Hereford Ranch Bull Sale
DESCRIPTION:
URL:https://coyotemedia.ca/hereford/event/fenton-hereford-ranch-bull-sale/
LOCATION:Fenton Hereford Ranch\, Irma\, Alberta\, Canada
CATEGORIES:Sale
END:VEVENT
BEGIN:VEVENT
DTSTART;VALUE=DATE:20250206
DTEND;VALUE=DATE:20250207
DTSTAMP:20260422T032717
CREATED:20241216T063501Z
LAST-MODIFIED:20241216T063501Z
UID:10000012-1738800000-1738886399@coyotemedia.ca
SUMMARY:Carlrams Ranching Annual Bull Sale
DESCRIPTION:
URL:https://coyotemedia.ca/hereford/event/carlrams-ranching-annual-bull-sale/
LOCATION:Carl and Dalynn’s Yard\, Cut Knife\, Saskatchewan\, Canada
CATEGORIES:Sale
END:VEVENT
BEGIN:VEVENT
DTSTART;VALUE=DATE:20250205
DTEND;VALUE=DATE:20250206
DTSTAMP:20260422T032717
CREATED:20241216T062438Z
LAST-MODIFIED:20241216T062438Z
UID:10000011-1738713600-1738799999@coyotemedia.ca
SUMMARY:Misty Valley Farms Annual Production Sale
DESCRIPTION:
URL:https://coyotemedia.ca/hereford/event/misty-valley-farms-annual-production-sale/
LOCATION:Misty Valley Farms\, Maidenstone\, Saskatchewan\, S0M 1M0\, Canada
CATEGORIES:Sale
END:VEVENT
BEGIN:VEVENT
DTSTART;VALUE=DATE:20250203
DTEND;VALUE=DATE:20250204
DTSTAMP:20260422T032717
CREATED:20241216T045558Z
LAST-MODIFIED:20241216T045558Z
UID:10000010-1738540800-1738627199@coyotemedia.ca
SUMMARY:Premier Hereford Sale
DESCRIPTION:
URL:https://coyotemedia.ca/hereford/event/premier-hereford-sale/
LOCATION:Northern Livestock Sales\, Lloydminster\, Saskatchewan\, SK S9V 0A1\, Canada
CATEGORIES:Sale
END:VEVENT
BEGIN:VEVENT
DTSTART;TZID=UTC:20250201T080000
DTEND;TZID=UTC:20250201T170000
DTSTAMP:20260422T032717
CREATED:20241216T044944Z
LAST-MODIFIED:20241216T044944Z
UID:10000009-1738396800-1738429200@coyotemedia.ca
SUMMARY:Hill 70 Quantock Barn Burnin’ Bull Sale
DESCRIPTION:  \n 
URL:https://coyotemedia.ca/hereford/event/hill-70-quantock-barn-burnin-bull-sale/
LOCATION:Hill 70 Quantock Ranch\, Lloydminster\, Alberta\, T9V 3A8\, Canada
CATEGORIES:Sale
END:VEVENT
BEGIN:VEVENT
DTSTART;VALUE=DATE:20250130
DTEND;VALUE=DATE:20250131
DTSTAMP:20260422T032717
CREATED:20241211T080829Z
LAST-MODIFIED:20241211T080829Z
UID:10000007-1738195200-1738281599@coyotemedia.ca
SUMMARY:Brost Land & Cattle Annual Production Sale
DESCRIPTION:
URL:https://coyotemedia.ca/hereford/event/brost-land-cattle-annual-production-sale/
LOCATION:Brost Land & Cattle Co\, Irvine\, Alberta\, Canada
CATEGORIES:Sale
END:VEVENT
BEGIN:VEVENT
DTSTART;TZID=UTC:20250125T120000
DTEND;TZID=UTC:20250125T170000
DTSTAMP:20260422T032717
CREATED:20241211T080610Z
LAST-MODIFIED:20241211T080610Z
UID:10000006-1737806400-1737824400@coyotemedia.ca
SUMMARY:M. C. Quantock “Canada’s Bulls” Bull Sale
DESCRIPTION:
URL:https://coyotemedia.ca/hereford/event/m-c-quantock-canadas-bulls-bull-sale/
LOCATION:Lloydminster Exhibition Grounds\, 5521 49 Ave\, Lloydminster\, Saskatchewan\, SK S9V 0Y7\, Canada
CATEGORIES:Sale
END:VEVENT
BEGIN:VEVENT
DTSTART;VALUE=DATE:20241214
DTEND;VALUE=DATE:20241215
DTSTAMP:20260422T032717
CREATED:20241211T072907Z
LAST-MODIFIED:20241211T072907Z
UID:10000004-1734134400-1734220799@coyotemedia.ca
SUMMARY:Coulee Crest Online Bred Heifer Sale
DESCRIPTION:
URL:https://coyotemedia.ca/hereford/event/coulee-crest-online-bred-heifer-sale/
LOCATION:DLMS FarmGate
CATEGORIES:Sale
END:VEVENT
BEGIN:VEVENT
DTSTART;TZID=UTC:20241212T080000
DTEND;TZID=UTC:20241212T170000
DTSTAMP:20260422T032717
CREATED:20241209T094128Z
LAST-MODIFIED:20241209T102040Z
UID:10000003-1733990400-1734022800@coyotemedia.ca
SUMMARY:Big Gully Farms Bull Sale
DESCRIPTION:
URL:https://coyotemedia.ca/hereford/event/big-gully-farms-bull-sale/
LOCATION:Big Gully Farms\, Maidstone\, Saskatchewan\, Canada
CATEGORIES:Sale
END:VEVENT
END:VCALENDAR