BEGIN:VCALENDAR
VERSION:2.0
PRODID:-//Canadian Hereford Association | Better Your Beef - ECPv6.11.2//NONSGML v1.0//EN
CALSCALE:GREGORIAN
METHOD:PUBLISH
X-WR-CALNAME:Canadian Hereford Association | Better Your Beef
X-ORIGINAL-URL:https://coyotemedia.ca/hereford
X-WR-CALDESC:Events for Canadian Hereford Association | Better Your Beef
REFRESH-INTERVAL;VALUE=DURATION:PT1H
X-Robots-Tag:noindex
X-PUBLISHED-TTL:PT1H
BEGIN:VTIMEZONE
TZID:UTC
BEGIN:STANDARD
TZOFFSETFROM:+0000
TZOFFSETTO:+0000
TZNAME:UTC
DTSTART:20250101T000000
END:STANDARD
END:VTIMEZONE
BEGIN:VEVENT
DTSTART;VALUE=DATE:20251022
DTEND;VALUE=DATE:20251027
DTSTAMP:20260421T161134
CREATED:20250417T171225Z
LAST-MODIFIED:20250417T171225Z
UID:3906-1761091200-1761523199@coyotemedia.ca
SUMMARY:World Hereford Conference
DESCRIPTION:
URL:https://coyotemedia.ca/hereford/event/world-hereford-conference/
LOCATION:Kansas City\, MO\, United States
CATEGORIES:Meeting
END:VEVENT
END:VCALENDAR