BEGIN:VCALENDAR
VERSION:2.0
PRODID:-//Canadian Hereford Association | Better Your Beef - ECPv6.11.2//NONSGML v1.0//EN
CALSCALE:GREGORIAN
METHOD:PUBLISH
X-WR-CALNAME:Canadian Hereford Association | Better Your Beef
X-ORIGINAL-URL:https://coyotemedia.ca/hereford
X-WR-CALDESC:Events for Canadian Hereford Association | Better Your Beef
REFRESH-INTERVAL;VALUE=DURATION:PT1H
X-Robots-Tag:noindex
X-PUBLISHED-TTL:PT1H
BEGIN:VTIMEZONE
TZID:UTC
BEGIN:STANDARD
TZOFFSETFROM:+0000
TZOFFSETTO:+0000
TZNAME:UTC
DTSTART:20240101T000000
END:STANDARD
END:VTIMEZONE
BEGIN:VEVENT
DTSTART;VALUE=DATE:20241012
DTEND;VALUE=DATE:20241013
DTSTAMP:20260422T071031
CREATED:20241209T093528Z
LAST-MODIFIED:20241209T094033Z
UID:2919-1728691200-1728777599@coyotemedia.ca
SUMMARY:The Remitall West Belle Effect Vol 2. Production Sale
DESCRIPTION:
URL:https://coyotemedia.ca/hereford/event/the-remitall-west-belle-effect-vol-2-production-sale/
END:VEVENT
END:VCALENDAR