BEGIN:VCALENDAR
VERSION:2.0
PRODID:-//Canadian Hereford Association | Better Your Beef - ECPv6.11.2//NONSGML v1.0//EN
CALSCALE:GREGORIAN
METHOD:PUBLISH
X-WR-CALNAME:Canadian Hereford Association | Better Your Beef
X-ORIGINAL-URL:https://coyotemedia.ca/hereford
X-WR-CALDESC:Events for Canadian Hereford Association | Better Your Beef
REFRESH-INTERVAL;VALUE=DURATION:PT1H
X-Robots-Tag:noindex
X-PUBLISHED-TTL:PT1H
BEGIN:VTIMEZONE
TZID:UTC
BEGIN:STANDARD
TZOFFSETFROM:+0000
TZOFFSETTO:+0000
TZNAME:UTC
DTSTART:20250101T000000
END:STANDARD
END:VTIMEZONE
BEGIN:VEVENT
DTSTART;VALUE=DATE:20250206
DTEND;VALUE=DATE:20250207
DTSTAMP:20260422T032528
CREATED:20241216T063501Z
LAST-MODIFIED:20241216T063501Z
UID:2975-1738800000-1738886399@coyotemedia.ca
SUMMARY:Carlrams Ranching Annual Bull Sale
DESCRIPTION:
URL:https://coyotemedia.ca/hereford/event/carlrams-ranching-annual-bull-sale/
LOCATION:Carl and Dalynn’s Yard\, Cut Knife\, Saskatchewan\, Canada
CATEGORIES:Sale
END:VEVENT
END:VCALENDAR