BEGIN:VCALENDAR
VERSION:2.0
PRODID:-//Canadian Hereford Association | Better Your Beef - ECPv6.11.2//NONSGML v1.0//EN
CALSCALE:GREGORIAN
METHOD:PUBLISH
X-WR-CALNAME:Canadian Hereford Association | Better Your Beef
X-ORIGINAL-URL:https://coyotemedia.ca/hereford
X-WR-CALDESC:Events for Canadian Hereford Association | Better Your Beef
REFRESH-INTERVAL;VALUE=DURATION:PT1H
X-Robots-Tag:noindex
X-PUBLISHED-TTL:PT1H
BEGIN:VTIMEZONE
TZID:UTC
BEGIN:STANDARD
TZOFFSETFROM:+0000
TZOFFSETTO:+0000
TZNAME:UTC
DTSTART:20250101T000000
END:STANDARD
END:VTIMEZONE
BEGIN:VEVENT
DTSTART;VALUE=DATE:20250721
DTEND;VALUE=DATE:20250726
DTSTAMP:20260421T141526
CREATED:20250417T170714Z
LAST-MODIFIED:20250417T170714Z
UID:3897-1753056000-1753487999@coyotemedia.ca
SUMMARY:Bonanza
DESCRIPTION:
URL:https://coyotemedia.ca/hereford/event/bonanza/
LOCATION:Olds Regional Exhibition\, Olds\, Alberta\, Canada
CATEGORIES:Meeting,Show
END:VEVENT
END:VCALENDAR